Back to the "Multiple platform build/check report" | A B C D E F G H I J K L M N O P Q R [S] T U V W X Y Z |
Package 361/389 | Hostname | OS / Arch | BUILD | CHECK | BUILD BIN | ||||
splots 1.14.0 Wolfgang Huber
| wilson1 | Linux (openSUSE 11.1) / x86_64 | OK | OK | |||||
liverpool | Windows Server 2003 R2 (32-bit) / x64 | [ OK ] | OK | OK | |||||
gewurz | Windows Server 2008 R2 Enterprise (64-bit) / x64 | OK | OK | OK | |||||
pelham | Mac OS X Leopard (10.5.8) / i386 | OK | OK | OK |
Package: splots |
Version: 1.14.0 |
Command: chmod a+r splots -R && E:\biocbld\bbs-2.6-bioc\R\bin\R.exe CMD build splots |
StartedAt: 2010-10-04 14:20:49 -0700 (Mon, 04 Oct 2010) |
EndedAt: 2010-10-04 14:20:57 -0700 (Mon, 04 Oct 2010) |
EllapsedTime: 7.9 seconds |
RetCode: 0 |
Status: OK |
PackageFile: splots_1.14.0.tar.gz |
PackageFileSize: 137.9 KiB |
* checking for file 'splots/DESCRIPTION' ... OK * preparing 'splots': * checking DESCRIPTION meta-information ... OK * installing the package to re-build vignettes * installing *source* package 'splots' ... ** R ** inst ** preparing package for lazy loading ** help *** installing help indices ** building package indices ... ** testing if installed package can be loaded * DONE (splots) * creating vignettes ... OK * removing junk files * checking for LF line-endings in source and make files * checking for empty or unneeded directories * building 'splots_1.14.0.tar.gz'