Back to the "Multiple platform build/check report" | A B C D E F G H I J K L M N O [P] Q R S T U V W X Y Z |
Package 284/389 | Hostname | OS / Arch | BUILD | CHECK | BUILD BIN | ||||
plgem 1.20.1 Norman Pavelka
| wilson1 | Linux (openSUSE 11.1) / x86_64 | OK | OK | |||||
liverpool | Windows Server 2003 R2 (32-bit) / x64 | OK | OK | OK | |||||
gewurz | Windows Server 2008 R2 Enterprise (64-bit) / x64 | OK | OK | OK | |||||
pelham | Mac OS X Leopard (10.5.8) / i386 | OK | OK | [ OK ] |
Package: plgem |
Version: 1.20.1 |
Command: /Users/biocbuild/BBS/utils/build-universal.sh plgem_1.20.1.tar.gz /Library/Frameworks/R.framework/Versions/2.11/Resources/bin/R plgem.buildbin-libdir |
StartedAt: 2010-10-04 19:26:01 -0700 (Mon, 04 Oct 2010) |
EndedAt: 2010-10-04 19:26:05 -0700 (Mon, 04 Oct 2010) |
EllapsedTime: 3.8 seconds |
RetCode: 0 |
Status: OK |
PackageFile: plgem_1.20.1.tgz |
PackageFileSize: 498.9 KiB |
INSTALLATION WITH 'R CMD INSTALL --preclean --library=plgem.buildbin-libdir plgem_1.20.1.tar.gz' * installing *source* package ‘plgem’ ... ** R ** data ** inst ** preparing package for lazy loading Welcome to Bioconductor Vignettes contain introductory material. To view, type 'openVignette()'. To cite Bioconductor, see 'citation("Biobase")' and for packages 'citation(pkgname)'. ** help *** installing help indices ** building package indices ... ** testing if installed package can be loaded * DONE (plgem)