pcaMethods 1.30.0 Wolfram Stacklies
 | Snapshot Date: 2010-10-04 11:22:20 -0700 (Mon, 04 Oct 2010) |  | URL: https://hedgehog.fhcrc.org/bioconductor/branches/RELEASE_2_6/madman/Rpacks/pcaMethods |  | Last Changed Rev: 46401 / Revision: 49923 |  | Last Changed Date: 2010-04-22 11:21:23 -0700 (Thu, 22 Apr 2010) |  
  | wilson1  | Linux (openSUSE 11.1) / x86_64  |  OK  |  OK  |  | 
| liverpool  | Windows Server 2003 R2 (32-bit) / x64  |  OK  |  OK  |  OK  | 
| gewurz  | Windows Server 2008 R2 Enterprise (64-bit) / x64  |  OK  |  OK  | [ OK ] | 
| pelham  | Mac OS X Leopard (10.5.8) / i386  |  OK  |  OK  |  OK  | 
* installing *source* package 'pcaMethods' ...
** libs
  making DLL ...
x86_64-w64-mingw32-g++ -I"D:/biocbld/bbs-2.6-bioc/R/include" -ID:/biocbld/bbs-2.6-bioc/R/library/Rcpp/include        -O2 -Wall  -c nipals.cpp -o nipals.o
x86_64-w64-mingw32-g++ -shared -s -static-libgcc -o pcaMethods.dll tmp.def nipals.o D:/biocbld/bbs-2.6-bioc/R/library/Rcpp/lib/x64/libRcpp.a -LD:/biocbld/bbs-2.6-bioc/R/bin -lR
installing to D:/biocbld/bbs-2.6-bioc/meat/pcaMethods.buildbin-libdir/pcaMethods/libs/x64
  ... done
** R
** data
** inst
** preparing package for lazy loading
Welcome to Bioconductor
  Vignettes contain introductory material. To view, type
  'openVignette()'. To cite Bioconductor, see
  'citation("Biobase")' and for packages 'citation(pkgname)'.
Attaching package: 'pls'
The following object(s) are masked from 'package:stats':
    loadings
Creating a new generic function for "print" in "pcaMethods"
Creating a new generic function for "biplot" in "pcaMethods"
Creating a new generic function for "summary" in "pcaMethods"
Creating a new generic function for "predict" in "pcaMethods"
Creating a new generic function for "residuals" in "pcaMethods"
Creating a new generic function for "resid" in "pcaMethods"
Creating a new generic function for "fitted" in "pcaMethods"
** help
*** installing help indices
** building package indices ...
** testing if installed package can be loaded
* MD5 sums
packaged installation of 'pcaMethods' as pcaMethods_1.30.0.zip
* DONE (pcaMethods)