* checking for file 'oligoClasses/DESCRIPTION' ... OK
* preparing 'oligoClasses':
* checking DESCRIPTION meta-information ... OK
* installing the package to re-build vignettes
* installing *source* package 'oligoClasses' ...
** R
** data
** inst
** preparing package for lazy loading
Welcome to Bioconductor
Vignettes contain introductory material. To view, type
'openVignette()'. To cite Bioconductor, see
'citation("Biobase")' and for packages 'citation(pkgname)'.
in method for 'annotatedDataFrameFrom' with signature '"ff_matrix"': no definition for class "ff_matrix"
Creating a new generic function for "close" in "oligoClasses"
Creating a new generic function for "open" in "oligoClasses"
** help
*** installing help indices
** building package indices ...
** testing if installed package can be loaded
================================================================================
Welcome to oligoClasses version 1.10.0
================================================================================
Large dataset support for 'oligo/crlmm': Disabled
- Load 'ff'
================================================================================
Parallel computing support for 'oligo/crlmm': Disabled
- Load 'ff'
- Load 'snow'
- Use options(cluster=makeCluster(...))
================================================================================
* DONE (oligoClasses)
* creating vignettes ... OK
* removing junk files
* checking for LF line-endings in source and make files
* checking for empty or unneeded directories
* building 'oligoClasses_1.10.0.tar.gz'