Back to the "Multiple platform build/check report" | A B C D E F G H I J K L [M] N O P Q R S T U V W X Y Z |
Package 242/389 | Hostname | OS / Arch | BUILD | CHECK | BUILD BIN | ||||
methylumi 1.3.3 Sean Davis
| wilson1 | Linux (openSUSE 11.1) / x86_64 | OK | OK | |||||
liverpool | Windows Server 2003 R2 (32-bit) / x64 | OK | OK | [ OK ] | |||||
gewurz | Windows Server 2008 R2 Enterprise (64-bit) / x64 | OK | OK | OK | |||||
pelham | Mac OS X Leopard (10.5.8) / i386 | OK | OK | OK |
Package: methylumi |
Version: 1.3.3 |
Command: E:\biocbld\bbs-2.6-bioc\R\bin\R.exe CMD INSTALL --build --library=methylumi.buildbin-libdir methylumi_1.3.3.tar.gz |
StartedAt: 2010-10-04 21:01:53 -0700 (Mon, 04 Oct 2010) |
EndedAt: 2010-10-04 21:01:58 -0700 (Mon, 04 Oct 2010) |
EllapsedTime: 5.3 seconds |
RetCode: 0 |
Status: OK |
PackageFile: methylumi_1.3.3.zip |
PackageFileSize: 1.504 MiB |
* installing *source* package 'methylumi' ... Using auto-selected zip option '--use-zip-data' ** R ** data ** inst ** preparing package for lazy loading Welcome to Bioconductor Vignettes contain introductory material. To view, type 'openVignette()'. To cite Bioconductor, see 'citation("Biobase")' and for packages 'citation(pkgname)'. ** help *** installing help indices ** building package indices ... ** testing if installed package can be loaded * MD5 sums packaged installation of 'methylumi' as methylumi_1.3.3.zip * DONE (methylumi)