* installing *source* package 'metahdep' ...
Using auto-selected zip option '--use-zip-data'
** libs
making DLL ...
gcc -I"E:/biocbld/bbs-2.6-bioc/R/include" -O3 -Wall -std=gnu99 -c metahdep.c -o metahdep.o
metahdep.c: In function 'get_row_indices2':
metahdep.c:471: warning: passing argument 5 of 'metan_binary_search_unique' makes integer from pointer without a cast
gcc -shared -s -static-libgcc -o metahdep.dll tmp.def metahdep.o -LE:/biocbld/bbs-2.6-bioc/R/bin -lR
installing to E:/biocbld/bbs-2.6-bioc/meat/metahdep.buildbin-libdir/metahdep/libs
... done
** R
** data
** inst
** preparing package for lazy loading
** help
*** installing help indices
** building package indices ...
** testing if installed package can be loaded
* MD5 sums
packaged installation of 'metahdep' as metahdep_1.6.0.zip
* DONE (metahdep)