Back to the "Multiple platform build/check report" | A B C D E F G H I J K L [M] N O P Q R S T U V W X Y Z |
Package 232/389 | Hostname | OS / Arch | BUILD | CHECK | BUILD BIN | ||||
matchprobes 1.20.0 Biocore Team c/o BioC user list
| wilson1 | Linux (openSUSE 11.1) / x86_64 | OK | OK | |||||
liverpool | Windows Server 2003 R2 (32-bit) / x64 | OK | OK | OK | |||||
gewurz | Windows Server 2008 R2 Enterprise (64-bit) / x64 | OK | OK | OK | |||||
pelham | Mac OS X Leopard (10.5.8) / i386 | OK | OK | [ OK ] |
Package: matchprobes |
Version: 1.20.0 |
Command: /Users/biocbuild/BBS/utils/build-universal.sh matchprobes_1.20.0.tar.gz /Library/Frameworks/R.framework/Versions/2.11/Resources/bin/R matchprobes.buildbin-libdir |
StartedAt: 2010-10-04 19:23:43 -0700 (Mon, 04 Oct 2010) |
EndedAt: 2010-10-04 19:23:52 -0700 (Mon, 04 Oct 2010) |
EllapsedTime: 9.9 seconds |
RetCode: 0 |
Status: OK |
PackageFile: matchprobes_1.20.0.tgz |
PackageFileSize: 3.983 MiB |
INSTALLATION WITH 'R CMD INSTALL --preclean --library=matchprobes.buildbin-libdir matchprobes_1.20.0.tar.gz' * installing *source* package ‘matchprobes’ ... ** R ** data ** inst ** preparing package for lazy loading Loading required package: Biobase Welcome to Bioconductor Vignettes contain introductory material. To view, type 'openVignette()'. To cite Bioconductor, see 'citation("Biobase")' and for packages 'citation(pkgname)'. Loading required package: IRanges Attaching package: 'IRanges' The following object(s) are masked from 'package:Biobase': updateObject The following object(s) are masked from 'package:base': Map, cbind, mapply, order, paste, pmax, pmax.int, pmin, pmin.int, rbind, rep.int, table ** help *** installing help indices ** building package indices ... ** testing if installed package can be loaded * DONE (matchprobes)