Back to the "Multiple platform build/check report" | A B C D E F G H I J K L [M] N O P Q R S T U V W X Y Z |
Package 225/389 | Hostname | OS / Arch | BUILD | CHECK | BUILD BIN | ||||
makePlatformDesign 1.12.0 Benilton Carvalho
| wilson1 | Linux (openSUSE 11.1) / x86_64 | [ OK ] | OK | |||||
liverpool | Windows Server 2003 R2 (32-bit) / x64 | OK | OK | OK | |||||
gewurz | Windows Server 2008 R2 Enterprise (64-bit) / x64 | OK | OK | OK | |||||
pelham | Mac OS X Leopard (10.5.8) / i386 | OK | OK | OK |
Package: makePlatformDesign |
Version: 1.12.0 |
Command: /home/biocbuild/bbs-2.6-bioc/R/bin/R CMD build makePlatformDesign |
StartedAt: 2010-10-04 13:34:37 -0700 (Mon, 04 Oct 2010) |
EndedAt: 2010-10-04 13:34:38 -0700 (Mon, 04 Oct 2010) |
EllapsedTime: 1.5 seconds |
RetCode: 0 |
Status: OK |
PackageFile: makePlatformDesign_1.12.0.tar.gz |
PackageFileSize: 21.03 KiB |
* checking for file 'makePlatformDesign/DESCRIPTION' ... OK * preparing 'makePlatformDesign': * checking DESCRIPTION meta-information ... OK * cleaning src * removing junk files * checking for LF line-endings in source and make files * checking for empty or unneeded directories WARNING: directory 'makePlatformDesign/inst/Code/man' is empty WARNING: directory 'makePlatformDesign/inst/Code/data' is empty * building 'makePlatformDesign_1.12.0.tar.gz'