* checking for file 'made4/DESCRIPTION' ... OK
* preparing 'made4':
* checking DESCRIPTION meta-information ... OK
* installing the package to re-build vignettes
* installing *source* package ‘made4’ ...
** R
** data
** inst
** preparing package for lazy loading
Attaching package: 'ade4'
The following object(s) are masked from 'package:base':
within
Loading required package: gtools
Loading required package: gdata
gdata: read.xls support for 'XLS' (Excel 97-2004) files ENABLED.
gdata: Unable to load perl libaries needed by read.xls()
gdata: to support 'XLSX' (Excel 2007+) files.
gdata: Run the function 'installXLSXsupport()'
gdata: to automatically download and install the perl
gdata: libaries needed to support Excel XLS and XLSX formats.
Attaching package: 'gdata'
The following object(s) are masked from 'package:utils':
object.size
Loading required package: caTools
Loading required package: bitops
Loading required package: grid
Attaching package: 'gplots'
The following object(s) are masked from 'package:stats':
lowess
** help
*** installing help indices
** building package indices ...
** testing if installed package can be loaded
* DONE (made4)
* creating vignettes ... OK
* removing junk files
* excluding invalid files from 'made4'
Subdirectory 'R' contains invalid file names:
.First.lib.R
* checking for LF line-endings in source and make files
* checking for empty or unneeded directories
* building 'made4_1.22.0.tar.gz'