* checking for file 'maanova/DESCRIPTION' ... OK
* preparing 'maanova':
* checking DESCRIPTION meta-information ... OK
* cleaning src
make: Nothing to be done for `clean'.
* installing the package to re-build vignettes
* installing *source* package 'maanova' ...
** libs
making DLL ...
gcc -I"E:/biocbld/bbs-2.6-bioc/R/include" -O3 -Wall -std=gnu99 -c makeratio.c -o makeratio.o
gcc -I"E:/biocbld/bbs-2.6-bioc/R/include" -O3 -Wall -std=gnu99 -c masvd.c -o masvd.o
masvd.c:114:2: warning: "/*" within comment
masvd.c:154:1: warning: "/*" within comment
masvd.c:161:5: warning: "/*" within comment
masvd.c:165:2: warning: "/*" within comment
masvd.c:189:2: warning: "/*" within comment
gcc -I"E:/biocbld/bbs-2.6-bioc/R/include" -O3 -Wall -std=gnu99 -c shift.c -o shift.o
shift.c: In function 'shift':
shift.c:27: warning: unused variable 'k'
gcc -I"E:/biocbld/bbs-2.6-bioc/R/include" -O3 -Wall -std=gnu99 -c util.c -o util.o
gcc -shared -s -static-libgcc -o maanova.dll tmp.def makeratio.o masvd.o shift.o util.o -LE:/biocbld/bbs-2.6-bioc/R/bin -lRlapack -LE:/biocbld/bbs-2.6-bioc/R/bin -lR
installing to E:/biocbld/bbs-2.6-bioc/tmpdir/Rinst185660092/maanova/libs
... done
** R
** data
** demo
** inst
** preparing package for lazy loading
** help
*** installing help indices
** building package indices ...
** testing if installed package can be loaded
* DONE (maanova)
* creating vignettes ... OK
* cleaning src
make: Nothing to be done for `clean'.
* removing junk files
* checking for LF line-endings in source and make files
* checking for empty or unneeded directories
* building 'maanova_1.18.0.tar.gz'