* checking for file 'mBPCR/DESCRIPTION' ... OK
* preparing 'mBPCR':
* checking DESCRIPTION meta-information ... OK
* installing the package to re-build vignettes
* installing *source* package 'mBPCR' ...
** R
** data
** moving datasets to lazyload DB
** inst
** preparing package for lazy loading
Loading required package: Biobase
Welcome to Bioconductor
Vignettes contain introductory material. To view, type
'openVignette()'. To cite Bioconductor, see
'citation("Biobase")' and for packages 'citation(pkgname)'.
================================================================================
Welcome to oligoClasses version 1.10.0
================================================================================
Large dataset support for 'oligo/crlmm': Disabled
- Load 'ff'
================================================================================
Parallel computing support for 'oligo/crlmm': Disabled
- Load 'ff'
- Load 'snow'
- Use options(cluster=makeCluster(...))
================================================================================
Welcome to SNPchip version 1.12.0
** help
*** installing help indices
** building package indices ...
** testing if installed package can be loaded
* DONE (mBPCR)
* creating vignettes ... OK
* removing junk files
* checking for LF line-endings in source and make files
* checking for empty or unneeded directories
* building 'mBPCR_1.2.0.tar.gz'