INSTALLATION WITH 'R CMD INSTALL --preclean --library=iFlow.buildbin-libdir iFlow_2.2.0.tar.gz'
* installing *source* package ‘iFlow’ ...
** R
** inst
** preparing package for lazy loading
Loading required package: Biobase
Welcome to Bioconductor
Vignettes contain introductory material. To view, type
'openVignette()'. To cite Bioconductor, see
'citation("Biobase")' and for packages 'citation(pkgname)'.
Loading required package: rrcov
Loading required package: robustbase
Loading required package: pcaPP
Loading required package: mvtnorm
Scalable Robust Estimators with High Breakdown Point (version 1.1-00)
Attaching package: 'flowCore'
The following object(s) are masked from 'package:stats':
alias, filter
Loading required package: lattice
KernSmooth 2.23 loaded
Copyright M. P. Wand 1997-2009
Loading required package: fda
Loading required package: splines
Loading required package: zoo
Loading required package: mvoutlier
Loading required package: cluster
** help
*** installing help indices
** building package indices ...
** testing if installed package can be loaded
* DONE (iFlow)