Back to the "Multiple platform build/check report" | A B C D E F G [H] I J K L M N O P Q R S T U V W X Y Z |
Package 193/389 | Hostname | OS / Arch | BUILD | CHECK | BUILD BIN | ||||
hypergraph 1.20.0 Robert Gentleman
| wilson1 | Linux (openSUSE 11.1) / x86_64 | OK | OK | |||||
liverpool | Windows Server 2003 R2 (32-bit) / x64 | [ OK ] | OK | OK | |||||
gewurz | Windows Server 2008 R2 Enterprise (64-bit) / x64 | OK | OK | OK | |||||
pelham | Mac OS X Leopard (10.5.8) / i386 | OK | OK | OK |
Package: hypergraph |
Version: 1.20.0 |
Command: chmod a+r hypergraph -R && E:\biocbld\bbs-2.6-bioc\R\bin\R.exe CMD build hypergraph |
StartedAt: 2010-10-04 14:04:34 -0700 (Mon, 04 Oct 2010) |
EndedAt: 2010-10-04 14:04:38 -0700 (Mon, 04 Oct 2010) |
EllapsedTime: 3.8 seconds |
RetCode: 0 |
Status: OK |
PackageFile: hypergraph_1.20.0.tar.gz |
PackageFileSize: 8.726 KiB |
* checking for file 'hypergraph/DESCRIPTION' ... OK * preparing 'hypergraph': * checking DESCRIPTION meta-information ... OK * removing junk files * checking for LF line-endings in source and make files * checking for empty or unneeded directories WARNING: directory 'hypergraph/inst/doc' is empty * building 'hypergraph_1.20.0.tar.gz'