* checking for file 'hopach/DESCRIPTION' ... OK
* preparing 'hopach':
* checking DESCRIPTION meta-information ... OK
* cleaning src
* installing the package to re-build vignettes
* installing *source* package 'hopach' ...
** libs
making DLL ...
x86_64-w64-mingw32-gcc -I"D:/biocbld/bbs-2.6-bioc/R/include" -O2 -Wall -std=gnu99 -c Rdistances.c -o Rdistances.o
x86_64-w64-mingw32-gcc -I"D:/biocbld/bbs-2.6-bioc/R/include" -O2 -Wall -std=gnu99 -c hdist.c -o hdist.o
x86_64-w64-mingw32-gcc -shared -s -static-libgcc -o hopach.dll tmp.def Rdistances.o hdist.o -LD:/biocbld/bbs-2.6-bioc/R/bin -lR
installing to D:/biocbld/bbs-2.6-bioc/tmpdir/Rinst440018481/hopach/libs/x64
... done
** R
** data
** inst
** preparing package for lazy loading
Welcome to Bioconductor
Vignettes contain introductory material. To view, type
'openVignette()'. To cite Bioconductor, see
'citation("Biobase")' and for packages 'citation(pkgname)'.
Creating a new generic function for "as.vector" in "hopach"
Creating a generic function from function "as.hdist"
Creating a new generic function for "as.matrix" in "hopach"
** help
*** installing help indices
** building package indices ...
** testing if installed package can be loaded
* DONE (hopach)
* creating vignettes ... OK
* cleaning src
* removing junk files
* checking for LF line-endings in source and make files
* checking for empty or unneeded directories
* building 'hopach_2.8.0.tar.gz'