| genArise 1.24.0 IFC Development Team
 
 | Snapshot Date: 2010-10-04 11:22:20 -0700 (Mon, 04 Oct 2010) |  | URL: https://hedgehog.fhcrc.org/bioconductor/branches/RELEASE_2_6/madman/Rpacks/genArise |  | Last Changed Rev: 46401 / Revision: 49923 |  | Last Changed Date: 2010-04-22 11:21:23 -0700 (Thu, 22 Apr 2010) | 
 | wilson1 | Linux (openSUSE 11.1) / x86_64 | OK | OK |  | 
| liverpool | Windows Server 2003 R2 (32-bit) / x64 | OK | OK | OK | 
| gewurz | Windows Server 2008 R2 Enterprise (64-bit) / x64 | OK | OK | OK | 
| pelham | Mac OS X Leopard (10.5.8) / i386 | [ OK ] | OK | OK | 
* checking for file 'genArise/DESCRIPTION' ... OK
* preparing 'genArise':
* checking DESCRIPTION meta-information ... OK
* installing the package to re-build vignettes
* installing *source* package ‘genArise’ ...
** R
** data
** inst
** preparing package for lazy loading
Loading required package: akima
Loading required package: lattice
locfit 1.5-6 	 2010-01-20 
Loading required package: tcltk
Loading Tcl/Tk interface ... done
** help
*** installing help indices
** building package indices ...
** testing if installed package can be loaded
* DONE (genArise)
* creating vignettes ... OK
* removing junk files
* checking for LF line-endings in source and make files
* checking for empty or unneeded directories
* building 'genArise_1.24.0.tar.gz'