Back to the "Multiple platform build/check report" | A B C D [E] F G H I J K L M N O P Q R S T U V W X Y Z |
Package 115/389 | Hostname | OS / Arch | BUILD | CHECK | BUILD BIN | ||||
explorase 1.12.0 Michael Lawrence
| wilson1 | Linux (openSUSE 11.1) / x86_64 | [ OK ] | OK | |||||
liverpool | Windows Server 2003 R2 (32-bit) / x64 | OK | OK | OK | |||||
gewurz | Windows Server 2008 R2 Enterprise (64-bit) / x64 | N O T S U P P O R T E D | |||||||
pelham | Mac OS X Leopard (10.5.8) / i386 | OK | OK | OK |
Package: explorase |
Version: 1.12.0 |
Command: /home/biocbuild/bbs-2.6-bioc/R/bin/R CMD build explorase |
StartedAt: 2010-10-04 14:08:33 -0700 (Mon, 04 Oct 2010) |
EndedAt: 2010-10-04 14:08:37 -0700 (Mon, 04 Oct 2010) |
EllapsedTime: 4.5 seconds |
RetCode: 0 |
Status: OK |
PackageFile: explorase_1.12.0.tar.gz |
PackageFileSize: 1.645 MiB |
* checking for file 'explorase/DESCRIPTION' ... OK * preparing 'explorase': * checking DESCRIPTION meta-information ... OK * installing the package to re-build vignettes * installing *source* package 'explorase' ... ** R ** inst ** preparing package for lazy loading Xlib: extension "RANDR" missing on display ":2669.0". ** help *** installing help indices ** building package indices ... ** testing if installed package can be loaded * DONE (explorase) * creating vignettes ... OK * removing junk files * checking for LF line-endings in source and make files * checking for empty or unneeded directories * building 'explorase_1.12.0.tar.gz'