* checking for file 'biocGraph/DESCRIPTION' ... OK
* preparing 'biocGraph':
* checking DESCRIPTION meta-information ... OK
* installing the package to re-build vignettes
* installing *source* package 'biocGraph' ...
** R
** inst
** preparing package for lazy loading
Loading required package: graph
Loading required package: grid
Loading required package: Biobase
Welcome to Bioconductor
Vignettes contain introductory material. To view, type
'openVignette()'. To cite Bioconductor, see
'citation("Biobase")' and for packages 'citation(pkgname)'.
** help
*** installing help indices
** building package indices ...
** testing if installed package can be loaded
* DONE (biocGraph)
* creating vignettes ... OK
* removing junk files
* checking for LF line-endings in source and make files
* checking for empty or unneeded directories
* building 'biocGraph_1.10.0.tar.gz'