Back to the "Multiple platform build/check report" | [A] B C D E F G H I J K L M N O P Q R S T U V W X Y Z |
Package 14/389 | Hostname | OS / Arch | BUILD | CHECK | BUILD BIN | ||||
affylmGUI 1.22.0 Keith Satterley
| wilson1 | Linux (openSUSE 11.1) / x86_64 | OK | OK | |||||
liverpool | Windows Server 2003 R2 (32-bit) / x64 | OK | OK | [ OK ] | |||||
gewurz | Windows Server 2008 R2 Enterprise (64-bit) / x64 | OK | OK | OK | |||||
pelham | Mac OS X Leopard (10.5.8) / i386 | OK | OK | OK |
Package: affylmGUI |
Version: 1.22.0 |
Command: E:\biocbld\bbs-2.6-bioc\R\bin\R.exe CMD INSTALL --build --library=affylmGUI.buildbin-libdir affylmGUI_1.22.0.tar.gz |
StartedAt: 2010-10-04 20:40:49 -0700 (Mon, 04 Oct 2010) |
EndedAt: 2010-10-04 20:40:55 -0700 (Mon, 04 Oct 2010) |
EllapsedTime: 6.0 seconds |
RetCode: 0 |
Status: OK |
PackageFile: affylmGUI_1.22.0.zip |
PackageFileSize: 1.79 MiB |
* installing *source* package 'affylmGUI' ... ** R ** inst ** preparing package for lazy loading Loading Tcl/Tk interface ... done Loading required package: Biobase Welcome to Bioconductor Vignettes contain introductory material. To view, type 'openVignette()'. To cite Bioconductor, see 'citation("Biobase")' and for packages 'citation(pkgname)'. ** help *** installing help indices ** building package indices ... ** testing if installed package can be loaded * MD5 sums packaged installation of 'affylmGUI' as affylmGUI_1.22.0.zip * DONE (affylmGUI)