| Back to the "Multiple platform build/check report" | [A] B C D E F G H I J K L M N O P Q R S T U V W X Y Z | 
| Package 13/389 | Hostname | OS / Arch | BUILD | CHECK | BUILD BIN | ||||
| affyio 1.16.0 Benjamin Milo Bolstad 
 | wilson1 | Linux (openSUSE 11.1) / x86_64 | OK | OK | |||||
| liverpool | Windows Server 2003 R2 (32-bit) / x64 | OK | OK | OK | |||||
| gewurz | Windows Server 2008 R2 Enterprise (64-bit) / x64 | OK | OK | OK | |||||
| pelham | Mac OS X Leopard (10.5.8) / i386 | [ OK ] | OK | OK | 
| Package: affyio | 
| Version: 1.16.0 | 
| Command: /Library/Frameworks/R.framework/Versions/2.11/Resources/bin/R CMD build affyio | 
| StartedAt: 2010-10-04 13:27:23 -0700 (Mon, 04 Oct 2010) | 
| EndedAt: 2010-10-04 13:27:25 -0700 (Mon, 04 Oct 2010) | 
| EllapsedTime: 1.8 seconds | 
| RetCode: 0 | 
| Status: OK | 
| PackageFile: affyio_1.16.0.tar.gz | 
| PackageFileSize: 104.4 KiB | 
* checking for file 'affyio/DESCRIPTION' ... OK * preparing 'affyio': * checking DESCRIPTION meta-information ... OK * cleaning src * removing junk files * checking for LF line-endings in source and make files * checking for empty or unneeded directories * building 'affyio_1.16.0.tar.gz'