| Ringo 1.12.0 J. Toedling
 
 | Snapshot Date: 2010-10-04 11:22:20 -0700 (Mon, 04 Oct 2010) |  | URL: https://hedgehog.fhcrc.org/bioconductor/branches/RELEASE_2_6/madman/Rpacks/Ringo |  | Last Changed Rev: 46401 / Revision: 49923 |  | Last Changed Date: 2010-04-22 11:21:23 -0700 (Thu, 22 Apr 2010) | 
 | wilson1 | Linux (openSUSE 11.1) / x86_64 | OK | OK |  | 
| liverpool | Windows Server 2003 R2 (32-bit) / x64 | OK | OK | [ OK ] | 
| gewurz | Windows Server 2008 R2 Enterprise (64-bit) / x64 | OK | OK | OK | 
| pelham | Mac OS X Leopard (10.5.8) / i386 | OK | OK | OK | 
* installing *source* package 'Ringo' ...
** libs
  making DLL ...
g++ -I"E:/biocbld/bbs-2.6-bioc/R/include"         -O2 -Wall  -c mmeansd.cpp -o mmeansd.o
g++ -I"E:/biocbld/bbs-2.6-bioc/R/include"         -O2 -Wall  -c mmedian.cpp -o mmedian.o
gcc -I"E:/biocbld/bbs-2.6-bioc/R/include"         -O3 -Wall  -std=gnu99 -c region_overlap.c -o region_overlap.o
gcc -I"E:/biocbld/bbs-2.6-bioc/R/include"         -O3 -Wall  -std=gnu99 -c ringo_init.c -o ringo_init.o
g++ -shared -s -static-libgcc -o Ringo.dll tmp.def mmeansd.o mmedian.o region_overlap.o ringo_init.o -LE:/biocbld/bbs-2.6-bioc/R/bin -lR
installing to E:/biocbld/bbs-2.6-bioc/meat/Ringo.buildbin-libdir/Ringo/libs
  ... done
** R
** inst
** preparing package for lazy loading
Welcome to Bioconductor
  Vignettes contain introductory material. To view, type
  'openVignette()'. To cite Bioconductor, see
  'citation("Biobase")' and for packages 'citation(pkgname)'.
Loading required package: lattice
Attaching package: 'Matrix'
The following object(s) are masked from 'package:base':
    det
Creating a new generic function for "plot" in "Ringo"
Creating a new generic function for "get" in "Ringo"
Creating a new generic function for "ls" in "Ringo"
** help
*** installing help indices
** building package indices ...
** testing if installed package can be loaded
* MD5 sums
packaged installation of 'Ringo' as Ringo_1.12.0.zip
* DONE (Ringo)