* checking for file 'RTools4TB/DESCRIPTION' ... OK
* preparing 'RTools4TB':
* checking DESCRIPTION meta-information ... OK
* cleaning src
* installing the package to re-build vignettes
* installing *source* package 'RTools4TB' ...
** libs
making DLL ...
gcc -I"E:/biocbld/bbs-2.6-bioc/R/include" -O3 -Wall -std=gnu99 -c dbf.c -o dbf.o
gcc -shared -s -static-libgcc -o RTools4TB.dll tmp.def dbf.o -LE:/biocbld/bbs-2.6-bioc/R/bin -lR
installing to E:/biocbld/bbs-2.6-bioc/tmpdir/Rinst314438198/RTools4TB/libs
... done
** R
** data
** inst
** preparing package for lazy loading
Welcome to Bioconductor
Vignettes contain introductory material. To view, type
'openVignette()'. To cite Bioconductor, see
'citation("Biobase")' and for packages 'citation(pkgname)'.
** help
*** installing help indices
** building package indices ...
** testing if installed package can be loaded
* DONE (RTools4TB)
* creating vignettes ... OK
* cleaning src
* removing junk files
* checking for LF line-endings in source and make files
* checking for empty or unneeded directories
* building 'RTools4TB_1.4.0.tar.gz'