* checking for file 'MLInterfaces/DESCRIPTION' ... OK
* preparing 'MLInterfaces':
* checking DESCRIPTION meta-information ... OK
* installing the package to re-build vignettes
* installing *source* package ‘MLInterfaces’ ...
** R
** inst
** preparing package for lazy loading
Welcome to Bioconductor
Vignettes contain introductory material. To view, type
'openVignette()'. To cite Bioconductor, see
'citation("Biobase")' and for packages 'citation(pkgname)'.
Attaching package: 'genefilter'
The following object(s) are masked from 'package:MASS':
area
Loading required package: AnnotationDbi
** help
*** installing help indices
** building package indices ...
** testing if installed package can be loaded
* DONE (MLInterfaces)
* creating vignettes ... OK
* removing junk files
* checking for LF line-endings in source and make files
* checking for empty or unneeded directories
* building 'MLInterfaces_1.28.0.tar.gz'