* checking for file 'MEDME/DESCRIPTION' ... OK
* preparing 'MEDME':
* checking DESCRIPTION meta-information ... OK
* cleaning src
* installing the package to re-build vignettes
* installing *source* package 'MEDME' ...
** libs
making DLL ...
x86_64-w64-mingw32-gcc -I"D:/biocbld/bbs-2.6-bioc/R/include" -O2 -Wall -std=gnu99 -c MEDMEweight.c -o MEDMEweight.o
MEDMEweight.c: In function 'MEDMEweight':
MEDMEweight.c:36: warning: 'B' may be used uninitialized in this function
MEDMEweight.c:36: warning: 'C' may be used uninitialized in this function
MEDMEweight.c:36: warning: 'D' may be used uninitialized in this function
MEDMEweight.c:36: warning: 'E' may be used uninitialized in this function
MEDMEweight.c:36: warning: 'Min' may be used uninitialized in this function
MEDMEweight.c:36: warning: 'Max' may be used uninitialized in this function
MEDMEweight.c:30: warning: 'weight' may be used uninitialized in this function
x86_64-w64-mingw32-gcc -shared -s -static-libgcc -o MEDME.dll tmp.def MEDMEweight.o -LD:/biocbld/bbs-2.6-bioc/R/bin -lR
installing to D:/biocbld/bbs-2.6-bioc/tmpdir/Rinst438039810/MEDME/libs/x64
... done
** R
** data
** inst
** preparing package for lazy loading
** help
*** installing help indices
** building package indices ...
** testing if installed package can be loaded
* DONE (MEDME)
* creating vignettes ... OK
* cleaning src
* removing junk files
* checking for LF line-endings in source and make files
* checking for empty or unneeded directories
* building 'MEDME_1.8.0.tar.gz'