* checking for file 'GlobalAncova/DESCRIPTION' ... OK
* preparing 'GlobalAncova':
* checking DESCRIPTION meta-information ... OK
* cleaning src
* installing the package to re-build vignettes
* installing *source* package 'GlobalAncova' ...
** libs
making DLL ...
x86_64-w64-mingw32-gcc -I"D:/biocbld/bbs-2.6-bioc/R/include" -O2 -Wall -std=gnu99 -c GlobalAncova.c -o GlobalAncova.o
GlobalAncova.c: In function 'permut':
GlobalAncova.c:268: warning: 'ord_perm' may be used uninitialized in this function
GlobalAncova.c: In function 'permut_withFperm':
GlobalAncova.c:166: warning: 'ord_perm' may be used uninitialized in this function
x86_64-w64-mingw32-gcc -I"D:/biocbld/bbs-2.6-bioc/R/include" -O2 -Wall -std=gnu99 -c ludcmp.c -o ludcmp.o
x86_64-w64-mingw32-gcc -I"D:/biocbld/bbs-2.6-bioc/R/include" -O2 -Wall -std=gnu99 -c matrix.c -o matrix.o
x86_64-w64-mingw32-gcc -shared -s -static-libgcc -o GlobalAncova.dll tmp.def GlobalAncova.o ludcmp.o matrix.o -LD:/biocbld/bbs-2.6-bioc/R/bin -lR
installing to D:/biocbld/bbs-2.6-bioc/tmpdir/Rinst441283218/GlobalAncova/libs/x64
... done
** R
** data
** inst
** preparing package for lazy loading
Loading required package: Biobase
Welcome to Bioconductor
Vignettes contain introductory material. To view, type
'openVignette()'. To cite Bioconductor, see
'citation("Biobase")' and for packages 'citation(pkgname)'.
** help
*** installing help indices
** building package indices ...
** testing if installed package can be loaded
* DONE (GlobalAncova)
* creating vignettes ... OK
* cleaning src
* removing junk files
* checking for LF line-endings in source and make files
* checking for empty or unneeded directories
* building 'GlobalAncova_3.16.0.tar.gz'