* installing *source* package 'GeneSelector' ...
Using auto-selected zip option '--use-zip-data'
** libs
making DLL ...
gcc -I"E:/biocbld/bbs-2.6-bioc/R/include" -O3 -Wall -std=gnu99 -c kendall.c -o kendall.o
kendall.c: In function 'kendall':
kendall.c:3: warning: 'tau' may be used uninitialized in this function
gcc -I"E:/biocbld/bbs-2.6-bioc/R/include" -O3 -Wall -std=gnu99 -c mcfour.c -o mcfour.o
gcc -I"E:/biocbld/bbs-2.6-bioc/R/include" -O3 -Wall -std=gnu99 -c mct.c -o mct.o
gcc -shared -s -static-libgcc -o GeneSelector.dll tmp.def kendall.o mcfour.o mct.o -LE:/biocbld/bbs-2.6-bioc/R/bin -lR
installing to E:/biocbld/bbs-2.6-bioc/meat/GeneSelector.buildbin-libdir/GeneSelector/libs
... done
** R
** data
** inst
** preparing package for lazy loading
** help
*** installing help indices
** building package indices ...
** testing if installed package can be loaded
* MD5 sums
packaged installation of 'GeneSelector' as GeneSelector_2.4.0.zip
* DONE (GeneSelector)