Back to the "Multiple platform build/check report" | A B C D E F [G] H I J K L M N O P Q R S T U V W X Y Z |
Package 140/389 | Hostname | OS / Arch | BUILD | CHECK | BUILD BIN | ||||
GeneAnswers 1.4.2 Gang Feng
| wilson1 | Linux (openSUSE 11.1) / x86_64 | OK | OK | |||||
liverpool | Windows Server 2003 R2 (32-bit) / x64 | OK | OK | OK | |||||
gewurz | Windows Server 2008 R2 Enterprise (64-bit) / x64 | OK | OK | OK | |||||
pelham | Mac OS X Leopard (10.5.8) / i386 | OK | OK | [ OK ] |
Package: GeneAnswers |
Version: 1.4.2 |
Command: /Users/biocbuild/BBS/utils/build-universal.sh GeneAnswers_1.4.2.tar.gz /Library/Frameworks/R.framework/Versions/2.11/Resources/bin/R GeneAnswers.buildbin-libdir |
StartedAt: 2010-10-04 19:19:08 -0700 (Mon, 04 Oct 2010) |
EndedAt: 2010-10-04 19:19:19 -0700 (Mon, 04 Oct 2010) |
EllapsedTime: 11.1 seconds |
RetCode: 0 |
Status: OK |
PackageFile: GeneAnswers_1.4.2.tgz |
PackageFileSize: 5.394 MiB |
INSTALLATION WITH 'R CMD INSTALL --preclean --library=GeneAnswers.buildbin-libdir GeneAnswers_1.4.2.tar.gz' * installing *source* package ‘GeneAnswers’ ... ** R ** data ** inst ** preparing package for lazy loading Loading required package: bitops Loading required package: AnnotationDbi Loading required package: Biobase Welcome to Bioconductor Vignettes contain introductory material. To view, type 'openVignette()'. To cite Bioconductor, see 'citation("Biobase")' and for packages 'citation(pkgname)'. Loading required package: DBI ** help *** installing help indices ** building package indices ... ** testing if installed package can be loaded * DONE (GeneAnswers)