ExpressionView 1.1.0 Gabor Csardi
Snapshot Date: 2010-10-04 11:22:20 -0700 (Mon, 04 Oct 2010) | URL: https://hedgehog.fhcrc.org/bioconductor/branches/RELEASE_2_6/madman/Rpacks/ExpressionView | Last Changed Rev: 47194 / Revision: 49923 | Last Changed Date: 2010-05-28 11:24:43 -0700 (Fri, 28 May 2010) |
| wilson1 | Linux (openSUSE 11.1) / x86_64 | [ OK ] | OK | |
liverpool | Windows Server 2003 R2 (32-bit) / x64 | OK | OK | OK |
gewurz | Windows Server 2008 R2 Enterprise (64-bit) / x64 | OK | OK | OK |
pelham | Mac OS X Leopard (10.5.8) / i386 | OK | OK | OK |
* checking for file 'ExpressionView/DESCRIPTION' ... OK
* preparing 'ExpressionView':
* checking DESCRIPTION meta-information ... OK
* cleaning src
* installing the package to re-build vignettes
* installing *source* package 'ExpressionView' ...
** libs
g++ -I/home/biocbuild/bbs-2.6-bioc/R/include -I/usr/local/include -fpic -g -O2 -c order.cpp -o order.o
g++ -I/home/biocbuild/bbs-2.6-bioc/R/include -I/usr/local/include -fpic -g -O2 -c orderclusters.cpp -o orderclusters.o
g++ -shared -L/usr/local/lib64 -o ExpressionView.so order.o orderclusters.o -L/home/biocbuild/bbs-2.6-bioc/R/lib -lR
installing to /tmp/Rinst2252826633/ExpressionView/libs
** R
** inst
** preparing package for lazy loading
Loading required package: bitops
Loading required package: DBI
Loading required package: eisa
Loading required package: isa2
Loading required package: Biobase
Welcome to Bioconductor
Vignettes contain introductory material. To view, type
'openVignette()'. To cite Bioconductor, see
'citation("Biobase")' and for packages 'citation(pkgname)'.
Loading required package: AnnotationDbi
Loading required package: Category
Loading required package: genefilter
Loading required package: biclust
Loading required package: MASS
Attaching package: 'MASS'
The following object(s) are masked from 'package:genefilter':
area
Loading required package: grid
Loading required package: vcd
Loading required package: colorspace
** help
*** installing help indices
** building package indices ...
** testing if installed package can be loaded
* DONE (ExpressionView)
* creating vignettes ... OK
* cleaning src
* removing junk files
* checking for LF line-endings in source and make files
* checking for empty or unneeded directories
* building 'ExpressionView_1.1.0.tar.gz'