Back to the "Multiple platform build/check report" | A B C [D] E F G H I J K L M N O P Q R S T U V W X Y Z |
Package 96/389 | Hostname | OS / Arch | BUILD | CHECK | BUILD BIN | ||||
DAVIDQuery 1.8.1 Roger Day
| wilson1 | Linux (openSUSE 11.1) / x86_64 | OK | OK | |||||
liverpool | Windows Server 2003 R2 (32-bit) / x64 | OK | OK | OK | |||||
gewurz | Windows Server 2008 R2 Enterprise (64-bit) / x64 | OK | OK | OK | |||||
pelham | Mac OS X Leopard (10.5.8) / i386 | OK | OK | [ OK ] |
Package: DAVIDQuery |
Version: 1.8.1 |
Command: /Users/biocbuild/BBS/utils/build-universal.sh DAVIDQuery_1.8.1.tar.gz /Library/Frameworks/R.framework/Versions/2.11/Resources/bin/R DAVIDQuery.buildbin-libdir |
StartedAt: 2010-10-04 19:16:57 -0700 (Mon, 04 Oct 2010) |
EndedAt: 2010-10-04 19:16:59 -0700 (Mon, 04 Oct 2010) |
EllapsedTime: 2.3 seconds |
RetCode: 0 |
Status: OK |
PackageFile: DAVIDQuery_1.8.1.tgz |
PackageFileSize: 179 KiB |
INSTALLATION WITH 'R CMD INSTALL --preclean --library=DAVIDQuery.buildbin-libdir DAVIDQuery_1.8.1.tar.gz' * installing *source* package ‘DAVIDQuery’ ... ** R ** inst ** preparing package for lazy loading Loading required package: bitops ** help *** installing help indices ** building package indices ... ** testing if installed package can be loaded This is DAVIDQuery Version 1.8.1 2010-06-11 * DONE (DAVIDQuery)