Back to the "Multiple platform build/check report" | A B [C] D E F G H I J K L M N O P Q R S T U V W X Y Z |
Package 73/389 | Hostname | OS / Arch | BUILD | CHECK | BUILD BIN | ||||
ChIPpeakAnno 1.4.2 Lihua Julie Zhu
| wilson1 | Linux (openSUSE 11.1) / x86_64 | [ OK ] | OK | |||||
liverpool | Windows Server 2003 R2 (32-bit) / x64 | OK | OK | OK | |||||
gewurz | Windows Server 2008 R2 Enterprise (64-bit) / x64 | OK | OK | OK | |||||
pelham | Mac OS X Leopard (10.5.8) / i386 | OK | OK | OK |
Package: ChIPpeakAnno |
Version: 1.4.2 |
Command: /home/biocbuild/bbs-2.6-bioc/R/bin/R CMD build ChIPpeakAnno |
StartedAt: 2010-10-04 14:50:34 -0700 (Mon, 04 Oct 2010) |
EndedAt: 2010-10-04 14:51:22 -0700 (Mon, 04 Oct 2010) |
EllapsedTime: 47.4 seconds |
RetCode: 0 |
Status: OK |
PackageFile: ChIPpeakAnno_1.4.2.tar.gz |
PackageFileSize: 14.12 MiB |
* checking for file 'ChIPpeakAnno/DESCRIPTION' ... OK * preparing 'ChIPpeakAnno': * checking DESCRIPTION meta-information ... OK * installing the package to re-build vignettes * installing *source* package 'ChIPpeakAnno' ... ** R ** data ** inst ** help *** installing help indices ** building package indices ... ** testing if installed package can be loaded * DONE (ChIPpeakAnno) * creating vignettes ... OK * removing junk files * checking for LF line-endings in source and make files * checking for empty or unneeded directories * building 'ChIPpeakAnno_1.4.2.tar.gz'