* checking for file 'BCRANK/DESCRIPTION' ... OK
* preparing 'BCRANK':
* checking DESCRIPTION meta-information ... OK
* cleaning src
* installing the package to re-build vignettes
* installing *source* package 'BCRANK' ...
** libs
gcc -std=gnu99 -I/home/biocbuild/bbs-2.6-bioc/R/include -I/usr/local/include -fpic -g -O2 -c init.c -o init.o
gcc -std=gnu99 -I/home/biocbuild/bbs-2.6-bioc/R/include -I/usr/local/include -fpic -g -O2 -c match_consensus.c -o match_consensus.o
gcc -std=gnu99 -shared -L/usr/local/lib64 -o BCRANK.so init.o match_consensus.o -L/home/biocbuild/bbs-2.6-bioc/R/lib -lR
installing to /tmp/Rinst637446410/BCRANK/libs
** R
** data
** inst
** preparing package for lazy loading
Creating a new generic function for "plot" in "BCRANK"
** help
*** installing help indices
** building package indices ...
** testing if installed package can be loaded
* DONE (BCRANK)
* creating vignettes ... OK
* cleaning src
* removing junk files
* checking for LF line-endings in source and make files
* checking for empty or unneeded directories
* building 'BCRANK_1.10.0.tar.gz'