Back to the "Multiple platform build/check report" | A [B] C D E F G H I J K L M N O P Q R S T U V W X Y Z |
Package 34/389 | Hostname | OS / Arch | BUILD | CHECK | BUILD BIN | ||||
BAC 1.8.0 Raphael Gottardo
| wilson1 | Linux (openSUSE 11.1) / x86_64 | OK | OK | |||||
liverpool | Windows Server 2003 R2 (32-bit) / x64 | OK | OK | OK | |||||
gewurz | Windows Server 2008 R2 Enterprise (64-bit) / x64 | OK | OK | [ OK ] | |||||
pelham | Mac OS X Leopard (10.5.8) / i386 | OK | OK | OK |
Package: BAC |
Version: 1.8.0 |
Command: D:\biocbld\bbs-2.6-bioc\R\bin\R.exe CMD INSTALL --build --library=BAC.buildbin-libdir BAC_1.8.0.tar.gz |
StartedAt: 2010-10-04 19:19:40 -0700 (Mon, 04 Oct 2010) |
EndedAt: 2010-10-04 19:19:46 -0700 (Mon, 04 Oct 2010) |
EllapsedTime: 5.6 seconds |
RetCode: 0 |
Status: OK |
PackageFile: BAC_1.8.0.zip |
PackageFileSize: 1.413 MiB |
* installing *source* package 'BAC' ... Using auto-selected zip option '--use-zip-data' ** libs making DLL ... x86_64-w64-mingw32-gcc -I"D:/biocbld/bbs-2.6-bioc/R/include" -O2 -Wall -std=gnu99 -c BAC.c -o BAC.o x86_64-w64-mingw32-gcc -I"D:/biocbld/bbs-2.6-bioc/R/include" -O2 -Wall -std=gnu99 -c util.c -o util.o x86_64-w64-mingw32-gcc -shared -s -static-libgcc -o BAC.dll tmp.def BAC.o util.o -LD:/biocbld/bbs-2.6-bioc/R/bin -lR installing to D:/biocbld/bbs-2.6-bioc/meat/BAC.buildbin-libdir/BAC/libs/x64 ... done ** R ** data ** inst ** preparing package for lazy loading ** help *** installing help indices ** building package indices ... ** testing if installed package can be loaded * MD5 sums packaged installation of 'BAC' as BAC_1.8.0.zip * DONE (BAC)