| Back to the "Multiple platform build/check report" | A B C D E F G H I J K L M N O P Q R S T U V [W] X Y Z |
| Package 349/354 | Hostname | OS / Arch | BUILD | CHECK | BUILD BIN | |||||
| widgetTools 1.25.0 Jianhua Zhang
| wilson1 | Linux (openSUSE 11.1) / x86_64 | OK | OK | ||||||
| liverpool | Windows Server 2003 R2 (32-bit) / x64 | OK | OK | [ OK ] | ||||||
| pitt | Mac OS X Tiger (10.4.11) / i386 | OK | OK | OK | ||||||
| pelham | Mac OS X Leopard (10.5.8) / i386 | OK | OK | OK |
| Package: widgetTools |
| Version: 1.25.0 |
| Command: E:\biocbld\bbs-2.6-bioc\R\bin\R.exe CMD INSTALL --build --library=widgetTools.buildbin-libdir widgetTools_1.25.0.tar.gz |
| StartedAt: 2009-12-07 19:15:35 -0800 (Mon, 07 Dec 2009) |
| EndedAt: 2009-12-07 19:15:39 -0800 (Mon, 07 Dec 2009) |
| EllapsedTime: 4.1 seconds |
| RetCode: 0 |
| Status: OK |
| PackageFile: widgetTools_1.25.0.zip |
| PackageFileSize: 248.9 KiB |
* installing *source* package 'widgetTools' ... ** R ** inst ** preparing package for lazy loading Loading Tcl/Tk interface ... done ** help *** installing help indices ** building package indices ... ** MD5 sums packaged installation of 'widgetTools' as widgetTools_1.25.0.zip * DONE (widgetTools)