| Back to the "Multiple platform build/check report" | A B C D E F G H I J K L M N O P Q R S T U V [W] X Y Z |
| Package 347/354 | Hostname | OS / Arch | BUILD | CHECK | BUILD BIN | |||||
| weaver 1.13.0 Seth Falcon
| wilson1 | Linux (openSUSE 11.1) / x86_64 | OK | OK | ||||||
| liverpool | Windows Server 2003 R2 (32-bit) / x64 | OK | OK | OK | ||||||
| pitt | Mac OS X Tiger (10.4.11) / i386 | OK | OK | [ OK ] | ||||||
| pelham | Mac OS X Leopard (10.5.8) / i386 | OK | OK | OK |
| Package: weaver |
| Version: 1.13.0 |
| Command: /Users/biocbuild/BBS/utils/build-universal.sh weaver_1.13.0.tar.gz /Library/Frameworks/R.framework/Versions/2.11/Resources/bin/R weaver.buildbin-libdir |
| StartedAt: 2009-12-07 19:52:24 -0800 (Mon, 07 Dec 2009) |
| EndedAt: 2009-12-07 19:52:25 -0800 (Mon, 07 Dec 2009) |
| EllapsedTime: 1.9 seconds |
| RetCode: 0 |
| Status: OK |
| PackageFile: weaver_1.13.0.tgz |
| PackageFileSize: 108.4 KiB |
INSTALLATION WITH 'R CMD INSTALL --preclean --library=weaver.buildbin-libdir weaver_1.13.0.tar.gz'
* installing *source* package ‘weaver’ ...
** R
** inst
** preparing package for lazy loading
** help
*** installing help indices
** building package indices ...
* DONE (weaver)