| Back to the "Multiple platform build/check report" | A B C D E F G H I J K L M [N] O P Q R S T U V W X Y Z |
| Package 230/354 | Hostname | OS / Arch | BUILD | CHECK | BUILD BIN | |||||
| nudge 1.13.0 N. Dean
| wilson1 | Linux (openSUSE 11.1) / x86_64 | OK | OK | ||||||
| liverpool | Windows Server 2003 R2 (32-bit) / x64 | OK | OK | OK | ||||||
| pitt | Mac OS X Tiger (10.4.11) / i386 | OK | OK | [ OK ] | ||||||
| pelham | Mac OS X Leopard (10.5.8) / i386 | OK | OK | OK |
| Package: nudge |
| Version: 1.13.0 |
| Command: /Users/biocbuild/BBS/utils/build-universal.sh nudge_1.13.0.tar.gz /Library/Frameworks/R.framework/Versions/2.11/Resources/bin/R nudge.buildbin-libdir |
| StartedAt: 2009-12-07 19:44:58 -0800 (Mon, 07 Dec 2009) |
| EndedAt: 2009-12-07 19:45:05 -0800 (Mon, 07 Dec 2009) |
| EllapsedTime: 6.5 seconds |
| RetCode: 0 |
| Status: OK |
| PackageFile: nudge_1.13.0.tgz |
| PackageFileSize: 1.347 MiB |
INSTALLATION WITH 'R CMD INSTALL --preclean --library=nudge.buildbin-libdir nudge_1.13.0.tar.gz'
* installing *source* package ‘nudge’ ...
** R
** data
** inst
** preparing package for lazy loading
** help
*** installing help indices
** building package indices ...
* DONE (nudge)