| Back to the "Multiple platform build/check report" | A B C D E F G H I J K L [M] N O P Q R S T U V W X Y Z |
| Package 223/354 | Hostname | OS / Arch | BUILD | CHECK | BUILD BIN | |||||
| miRNApath 1.7.0 James M. Ward
| wilson1 | Linux (openSUSE 11.1) / x86_64 | OK | OK | ||||||
| liverpool | Windows Server 2003 R2 (32-bit) / x64 | OK | OK | OK | ||||||
| pitt | Mac OS X Tiger (10.4.11) / i386 | OK | OK | [ OK ] | ||||||
| pelham | Mac OS X Leopard (10.5.8) / i386 | OK | OK | OK |
| Package: miRNApath |
| Version: 1.7.0 |
| Command: /Users/biocbuild/BBS/utils/build-universal.sh miRNApath_1.7.0.tar.gz /Library/Frameworks/R.framework/Versions/2.11/Resources/bin/R miRNApath.buildbin-libdir |
| StartedAt: 2009-12-07 19:44:40 -0800 (Mon, 07 Dec 2009) |
| EndedAt: 2009-12-07 19:44:44 -0800 (Mon, 07 Dec 2009) |
| EllapsedTime: 4.0 seconds |
| RetCode: 0 |
| Status: OK |
| PackageFile: miRNApath_1.7.0.tgz |
| PackageFileSize: 607.5 KiB |
INSTALLATION WITH 'R CMD INSTALL --preclean --library=miRNApath.buildbin-libdir miRNApath_1.7.0.tar.gz'
* installing *source* package ‘miRNApath’ ...
** R
** data
** inst
** preparing package for lazy loading
** help
*** installing help indices
** building package indices ...
* DONE (miRNApath)