| metahdep 1.5.0 John R. Stevens
 
 | Bioconductor Changelog |  | Snapshot Date: 2009-12-07 11:32:00 -0800 (Mon, 07 Dec 2009) |  | URL: https://hedgehog.fhcrc.org/bioconductor/trunk/madman/Rpacks/metahdep |  | Last Changed Rev: 42686 / Revision: 43434 |  | Last Changed Date: 2009-10-27 16:45:24 -0700 (Tue, 27 Oct 2009) | 
 | wilson1 | Linux (openSUSE 11.1) / x86_64 | OK | OK |  | 
| liverpool | Windows Server 2003 R2 (32-bit) / x64 | OK | OK | OK | 
| pitt | Mac OS X Tiger (10.4.11) / i386 | OK | OK | [ OK ] | 
| pelham | Mac OS X Leopard (10.5.8) / i386 | OK | OK | OK | 
                INSTALLATION WITH 'R CMD INSTALL --preclean --library=metahdep.buildbin-libdir metahdep_1.5.0.tar.gz'
* installing *source* package ‘metahdep’ ...
** libs
** arch - i386
gcc -arch i386 -std=gnu99 -I/Library/Frameworks/R.framework/Versions/2.11/Resources/include -I/Library/Frameworks/R.framework/Versions/2.11/Resources/include/i386  -I/usr/local/include    -fPIC  -g -O2 -Wall -c metahdep.c -o metahdep.o
metahdep.c: In function ‘get_row_indices2’:
metahdep.c:471: warning: passing argument 5 of ‘metan_binary_search_unique’ makes integer from pointer without a cast
gcc -arch i386 -std=gnu99 -dynamiclib -Wl,-headerpad_max_install_names -mmacosx-version-min=10.4 -undefined dynamic_lookup -single_module -multiply_defined suppress -L/usr/local/lib -o metahdep.so metahdep.o -F/Library/Frameworks/R.framework/.. -framework R -Wl,-framework -Wl,CoreFoundation
** arch - ppc
gcc -arch ppc -std=gnu99 -I/Library/Frameworks/R.framework/Versions/2.11/Resources/include -I/Library/Frameworks/R.framework/Versions/2.11/Resources/include/ppc  -I/usr/local/include    -fPIC  -g -O2 -c metahdep.c -o metahdep.o
metahdep.c: In function ‘get_row_indices2’:
metahdep.c:471: warning: passing argument 5 of ‘metan_binary_search_unique’ makes integer from pointer without a cast
gcc -arch ppc -std=gnu99 -dynamiclib -Wl,-headerpad_max_install_names -mmacosx-version-min=10.4 -undefined dynamic_lookup -single_module -multiply_defined suppress -L/usr/local/lib -o metahdep.so metahdep.o -F/Library/Frameworks/R.framework/.. -framework R -Wl,-framework -Wl,CoreFoundation
** R
** data
** inst
** preparing package for lazy loading
** help
*** installing help indices
** building package indices ...
* DONE (metahdep)