maanova 1.17.0 Keith Sheppard
 | Bioconductor Changelog |  | Snapshot Date: 2009-12-07 11:32:00 -0800 (Mon, 07 Dec 2009) |  | URL: https://hedgehog.fhcrc.org/bioconductor/trunk/madman/Rpacks/maanova |  | Last Changed Rev: 42686 / Revision: 43434 |  | Last Changed Date: 2009-10-27 16:45:24 -0700 (Tue, 27 Oct 2009) |  
  | wilson1  | Linux (openSUSE 11.1) / x86_64  |  OK  |  OK  |  | 
| liverpool  | Windows Server 2003 R2 (32-bit) / x64  |  OK  |  OK  | [ OK ] | 
| pitt  | Mac OS X Tiger (10.4.11) / i386  |  OK  |  OK  |  OK  | 
| pelham  | Mac OS X Leopard (10.5.8) / i386  |  OK  |  OK  |  OK  | 
* installing *source* package 'maanova' ...
  Using auto-selected zip option '--use-zip-data'
** libs
  making DLL ...
gcc -I"E:/biocbld/bbs-2.6-bioc/R/include"        -O3 -Wall  -std=gnu99 -c makeratio.c -o makeratio.o
gcc -I"E:/biocbld/bbs-2.6-bioc/R/include"        -O3 -Wall  -std=gnu99 -c masvd.c -o masvd.o
masvd.c:114:2: warning: "/*" within comment
masvd.c:154:1: warning: "/*" within comment
masvd.c:161:5: warning: "/*" within comment
masvd.c:165:2: warning: "/*" within comment
masvd.c:189:2: warning: "/*" within comment
gcc -I"E:/biocbld/bbs-2.6-bioc/R/include"        -O3 -Wall  -std=gnu99 -c shift.c -o shift.o
shift.c: In function 'shift':
shift.c:27: warning: unused variable 'k'
gcc -I"E:/biocbld/bbs-2.6-bioc/R/include"        -O3 -Wall  -std=gnu99 -c util.c -o util.o
gcc -shared -s -o maanova.dll tmp.def makeratio.o masvd.o shift.o util.o -LE:/biocbld/bbs-2.6-bioc/R/bin -lRlapack -LE:/biocbld/bbs-2.6-bioc/R/bin -lR
  ... done
** R
** data
** demo
** inst
** preparing package for lazy loading
** help
*** installing help indices
** building package indices ...
** MD5 sums
packaged installation of 'maanova' as maanova_1.17.0.zip
* DONE (maanova)