| Back to the "Multiple platform build/check report" | A B C D E F G H I J K [L] M N O P Q R S T U V W X Y Z |
| Package 184/354 | Hostname | OS / Arch | BUILD | CHECK | BUILD BIN | |||||
| lapmix 1.13.0 Yann Ruffieux
| wilson1 | Linux (openSUSE 11.1) / x86_64 | OK | OK | ||||||
| liverpool | Windows Server 2003 R2 (32-bit) / x64 | OK | OK | [ OK ] | ||||||
| pitt | Mac OS X Tiger (10.4.11) / i386 | OK | OK | OK | ||||||
| pelham | Mac OS X Leopard (10.5.8) / i386 | OK | OK | OK |
| Package: lapmix |
| Version: 1.13.0 |
| Command: E:\biocbld\bbs-2.6-bioc\R\bin\R.exe CMD INSTALL --build --library=lapmix.buildbin-libdir lapmix_1.13.0.tar.gz |
| StartedAt: 2009-12-07 19:05:42 -0800 (Mon, 07 Dec 2009) |
| EndedAt: 2009-12-07 19:05:46 -0800 (Mon, 07 Dec 2009) |
| EllapsedTime: 4.1 seconds |
| RetCode: 0 |
| Status: OK |
| PackageFile: lapmix_1.13.0.zip |
| PackageFileSize: 121.3 KiB |
* installing *source* package 'lapmix' ... ** R ** inst ** preparing package for lazy loading ** help *** installing help indices ** building package indices ... ** MD5 sums packaged installation of 'lapmix' as lapmix_1.13.0.zip * DONE (lapmix)