hexbin 1.21.0 Nicholas Lewin-Koh
 | Bioconductor Changelog |  | Snapshot Date: 2009-12-07 11:32:00 -0800 (Mon, 07 Dec 2009) |  | URL: https://hedgehog.fhcrc.org/bioconductor/trunk/madman/Rpacks/hexbin |  | Last Changed Rev: 42686 / Revision: 43434 |  | Last Changed Date: 2009-10-27 16:45:24 -0700 (Tue, 27 Oct 2009) |  
  | wilson1  | Linux (openSUSE 11.1) / x86_64  |  OK  |  OK  |  | 
| liverpool  | Windows Server 2003 R2 (32-bit) / x64  |  OK  |  OK  | [ OK ] | 
| pitt  | Mac OS X Tiger (10.4.11) / i386  |  OK  |  OK  |  OK  | 
| pelham  | Mac OS X Leopard (10.5.8) / i386  |  OK  |  OK  |  OK  | 
* installing *source* package 'hexbin' ...
  Using auto-selected zip option '--use-zip-data'
** libs
  making DLL ...
gfortran     -O3  -c hbin.f -o hbin.o
gfortran     -O3  -c hcell.f -o hcell.o
gfortran     -O3  -c herode.f -o herode.o
gfortran     -O3  -c hsm.f -o hsm.o
gcc -shared -s -o hexbin.dll tmp.def hbin.o hcell.o herode.o hsm.o -lgfortran -LE:/biocbld/bbs-2.6-bioc/R/bin -lR
  ... done
** R
** data
** inst
** preparing package for lazy loading
Creating a new generic function for "plot" in "hexbin"
Creating a new generic function for "summary" in "hexbin"
** help
*** installing help indices
** building package indices ...
** MD5 sums
packaged installation of 'hexbin' as hexbin_1.21.0.zip
* DONE (hexbin)