| globaltest 5.1.2 Jelle Goeman
 
 | Bioconductor Changelog |  | Snapshot Date: 2009-12-07 11:32:00 -0800 (Mon, 07 Dec 2009) |  | URL: https://hedgehog.fhcrc.org/bioconductor/trunk/madman/Rpacks/globaltest |  | Last Changed Rev: 43387 / Revision: 43434 |  | Last Changed Date: 2009-12-04 05:24:31 -0800 (Fri, 04 Dec 2009) | 
 | wilson1 | Linux (openSUSE 11.1) / x86_64 | OK | OK |  | 
| liverpool | Windows Server 2003 R2 (32-bit) / x64 | OK | OK | [ OK ] | 
| pitt | Mac OS X Tiger (10.4.11) / i386 | OK | OK | OK | 
| pelham | Mac OS X Leopard (10.5.8) / i386 | OK | OK | OK | 
* installing *source* package 'globaltest' ...
  Using auto-selected zip option '--use-zip-data'
** R
** data
** inst
** preparing package for lazy loading
Loading required package: Biobase
Welcome to Bioconductor
  Vignettes contain introductory material. To view, type
  'openVignette()'. To cite Bioconductor, see
  'citation("Biobase")' and for packages 'citation(pkgname)'.
Creating a new generic function for "sort" in "globaltest"
Creating a new generic function for "model.matrix" in "globaltest"
Creating a new generic function for "coefficients" in "globaltest"
Creating a new generic function for "fitted.values" in "globaltest"
Creating a new generic function for "residuals" in "globaltest"
** help
*** installing help indices
** building package indices ...
** MD5 sums
packaged installation of 'globaltest' as globaltest_5.1.2.zip
* DONE (globaltest)