flagme 1.3.0 Mark Robinson
 | Bioconductor Changelog |  | Snapshot Date: 2009-12-07 11:32:00 -0800 (Mon, 07 Dec 2009) |  | URL: https://hedgehog.fhcrc.org/bioconductor/trunk/madman/Rpacks/flagme |  | Last Changed Rev: 42686 / Revision: 43434 |  | Last Changed Date: 2009-10-27 16:45:24 -0700 (Tue, 27 Oct 2009) |  
  | wilson1  | Linux (openSUSE 11.1) / x86_64  |  OK  |  OK  |  | 
| liverpool  | Windows Server 2003 R2 (32-bit) / x64  |  OK  |  OK  | [ OK ] | 
| pitt  | Mac OS X Tiger (10.4.11) / i386  |  OK  |  WARNINGS  |  OK  | 
| pelham  | Mac OS X Leopard (10.5.8) / i386  |  OK  |  WARNINGS  |  OK  | 
* installing *source* package 'flagme' ...
** libs
  making DLL ...
gcc -I"E:/biocbld/bbs-2.6-bioc/R/include"        -O3 -Wall  -std=gnu99 -c dp.c -o dp.o
dp.c: In function 'dp':
dp.c:218: warning: 'cur_min' may be used uninitialized in this function
dp.c:217: warning: 'tb' may be used uninitialized in this function
gcc -I"E:/biocbld/bbs-2.6-bioc/R/include"        -O3 -Wall  -std=gnu99 -c init.c -o init.o
gcc -shared -s -o flagme.dll tmp.def dp.o init.o -LE:/biocbld/bbs-2.6-bioc/R/bin -lR
  ... done
** R
** inst
** preparing package for lazy loading
Package SparseM (0.83) loaded.  
	   To cite, see citation("SparseM")
Attaching package: 'SparseM'
	The following object(s) are masked from package:stats :
	 model.response 
	The following object(s) are masked from package:base :
	 backsolve,
	 chol 
Warning in namespaceImportFrom(self, asNamespace(ns)) :
  replacing previous import: image
Creating a new generic function for "plot" in "flagme"
** help
*** installing help indices
** building package indices ...
** MD5 sums
packaged installation of 'flagme' as flagme_1.3.0.zip
* DONE (flagme)