| Back to the "Multiple platform build/check report" | A B C D E F G H I J K L M N O P Q [R] S T U V W X Y Z |
| Package 289/354 | Hostname | OS / Arch | BUILD | CHECK | BUILD BIN | |||||
| RmiR 1.3.0 Francesco Favero
| wilson1 | Linux (openSUSE 11.1) / x86_64 | OK | OK | ||||||
| liverpool | Windows Server 2003 R2 (32-bit) / x64 | OK | OK | [ OK ] | ||||||
| pitt | Mac OS X Tiger (10.4.11) / i386 | OK | OK | OK | ||||||
| pelham | Mac OS X Leopard (10.5.8) / i386 | OK | OK | OK |
| Package: RmiR |
| Version: 1.3.0 |
| Command: E:\biocbld\bbs-2.6-bioc\R\bin\R.exe CMD INSTALL --build --library=RmiR.buildbin-libdir RmiR_1.3.0.tar.gz |
| StartedAt: 2009-12-07 19:12:01 -0800 (Mon, 07 Dec 2009) |
| EndedAt: 2009-12-07 19:12:04 -0800 (Mon, 07 Dec 2009) |
| EllapsedTime: 3.8 seconds |
| RetCode: 0 |
| Status: OK |
| PackageFile: RmiR_1.3.0.zip |
| PackageFileSize: 304.3 KiB |
* installing *source* package 'RmiR' ... ** R ** data ** inst ** preparing package for lazy loading Loading required package: DBI ** help *** installing help indices ** building package indices ... ** MD5 sums packaged installation of 'RmiR' as RmiR_1.3.0.zip * DONE (RmiR)