| ROC 1.23.1 Vince Carey
 
 | Bioconductor Changelog |  | Snapshot Date: 2009-12-07 11:32:00 -0800 (Mon, 07 Dec 2009) |  | URL: https://hedgehog.fhcrc.org/bioconductor/trunk/madman/Rpacks/ROC |  | Last Changed Rev: 43301 / Revision: 43434 |  | Last Changed Date: 2009-11-30 09:56:10 -0800 (Mon, 30 Nov 2009) | 
 | wilson1 | Linux (openSUSE 11.1) / x86_64 | OK | OK |  | 
| liverpool | Windows Server 2003 R2 (32-bit) / x64 | OK | OK | [ OK ] | 
| pitt | Mac OS X Tiger (10.4.11) / i386 | OK | OK | OK | 
| pelham | Mac OS X Leopard (10.5.8) / i386 | OK | OK | OK | 
* installing *source* package 'ROC' ...
** libs
  making DLL ...
g++ -I"E:/biocbld/bbs-2.6-bioc/R/include"        -O2 -Wall  -c ROC.cc -o ROC.o
g++ -shared -s -o ROC.dll tmp.def ROC.o -LE:/biocbld/bbs-2.6-bioc/R/bin -lR
  ... done
** R
** inst
** preparing package for lazy loading
** help
*** installing help indices
** building package indices ...
** MD5 sums
packaged installation of 'ROC' as ROC_1.23.1.zip
* DONE (ROC)