| Back to the "Multiple platform build/check report" | A B C D E F G H I J K L M N O P Q [R] S T U V W X Y Z |
| Package 285/354 | Hostname | OS / Arch | BUILD | CHECK | BUILD BIN | |||||
| RLMM 1.9.0 Nusrat Rabbee
| wilson1 | Linux (openSUSE 11.1) / x86_64 | OK | OK | ||||||
| liverpool | Windows Server 2003 R2 (32-bit) / x64 | OK | OK | OK | ||||||
| pitt | Mac OS X Tiger (10.4.11) / i386 | OK | OK | [ OK ] | ||||||
| pelham | Mac OS X Leopard (10.5.8) / i386 | OK | OK | OK |
| Package: RLMM |
| Version: 1.9.0 |
| Command: /Users/biocbuild/BBS/utils/build-universal.sh RLMM_1.9.0.tar.gz /Library/Frameworks/R.framework/Versions/2.11/Resources/bin/R RLMM.buildbin-libdir |
| StartedAt: 2009-12-07 19:47:48 -0800 (Mon, 07 Dec 2009) |
| EndedAt: 2009-12-07 19:47:51 -0800 (Mon, 07 Dec 2009) |
| EllapsedTime: 3.0 seconds |
| RetCode: 0 |
| Status: OK |
| PackageFile: RLMM_1.9.0.tgz |
| PackageFileSize: 203.2 KiB |
INSTALLATION WITH 'R CMD INSTALL --preclean --library=RLMM.buildbin-libdir RLMM_1.9.0.tar.gz'
* installing *source* package ‘RLMM’ ...
** R
** inst
** preparing package for lazy loading
** help
*** installing help indices
** building package indices ...
* DONE (RLMM)