| KEGGgraph 1.3.1 Jitao David Zhang
 
 | Bioconductor Changelog |  | Snapshot Date: 2009-12-07 11:32:00 -0800 (Mon, 07 Dec 2009) |  | URL: https://hedgehog.fhcrc.org/bioconductor/trunk/madman/Rpacks/KEGGgraph |  | Last Changed Rev: 43221 / Revision: 43434 |  | Last Changed Date: 2009-11-23 10:14:38 -0800 (Mon, 23 Nov 2009) | 
 | wilson1 | Linux (openSUSE 11.1) / x86_64 | OK | OK |  | 
| liverpool | Windows Server 2003 R2 (32-bit) / x64 | OK | OK | [ OK ] | 
| pitt | Mac OS X Tiger (10.4.11) / i386 | OK | OK | OK | 
| pelham | Mac OS X Leopard (10.5.8) / i386 | OK | OK | OK | 
* installing *source* package 'KEGGgraph' ...
  Using auto-selected zip option '--use-zip-data'
** R
** data
** inst
** preparing package for lazy loading
Attaching package: 'graph'
	The following object(s) are masked from package:XML :
	 addNode 
Loading required package: grid
** help
*** installing help indices
** building package indices ...
** MD5 sums
packaged installation of 'KEGGgraph' as KEGGgraph_1.3.1.zip
* DONE (KEGGgraph)