HilbertVis 1.5.0 Simon Anders
 | Bioconductor Changelog |  | Snapshot Date: 2009-12-07 11:32:00 -0800 (Mon, 07 Dec 2009) |  | URL: https://hedgehog.fhcrc.org/bioconductor/trunk/madman/Rpacks/HilbertVis |  | Last Changed Rev: 42686 / Revision: 43434 |  | Last Changed Date: 2009-10-27 16:45:24 -0700 (Tue, 27 Oct 2009) |  
  | wilson1  | Linux (openSUSE 11.1) / x86_64  |  OK  |  OK  |  | 
| liverpool  | Windows Server 2003 R2 (32-bit) / x64  |  OK  |  OK  | [ OK ] | 
| pitt  | Mac OS X Tiger (10.4.11) / i386  |  OK  |  OK  |  OK  | 
| pelham  | Mac OS X Leopard (10.5.8) / i386  |  OK  |  OK  |  OK  | 
* installing *source* package 'HilbertVis' ...
** libs
  making DLL ...
gcc -I"E:/biocbld/bbs-2.6-bioc/R/include"        -O3 -Wall  -std=gnu99 -c hilbert.c -o hilbert.o
gcc -I"E:/biocbld/bbs-2.6-bioc/R/include"        -O3 -Wall  -std=gnu99 -c make_wiggle_vector.c -o make_wiggle_vector.o
gcc -I"E:/biocbld/bbs-2.6-bioc/R/include"        -O3 -Wall  -std=gnu99 -c shrink_vector.c -o shrink_vector.o
gcc -shared -s -o HilbertVis.dll tmp.def hilbert.o make_wiggle_vector.o shrink_vector.o -LE:/biocbld/bbs-2.6-bioc/R/bin -lR
  ... done
** R
** inst
** preparing package for lazy loading
** help
*** installing help indices
** building package indices ...
** MD5 sums
packaged installation of 'HilbertVis' as HilbertVis_1.5.0.zip
* DONE (HilbertVis)