| GGtools 3.5.19 Vince Carey
 
 | Bioconductor Changelog |  | Snapshot Date: 2009-12-07 11:32:00 -0800 (Mon, 07 Dec 2009) |  | URL: https://hedgehog.fhcrc.org/bioconductor/trunk/madman/Rpacks/GGtools |  | Last Changed Rev: 43359 / Revision: 43434 |  | Last Changed Date: 2009-12-03 01:55:12 -0800 (Thu, 03 Dec 2009) | 
 | wilson1 | Linux (openSUSE 11.1) / x86_64 | OK | ERROR |  | 
| liverpool | Windows Server 2003 R2 (32-bit) / x64 | OK | ERROR | [ OK ] | 
| pitt | Mac OS X Tiger (10.4.11) / i386 | OK | OK | OK | 
| pelham | Mac OS X Leopard (10.5.8) / i386 | OK | OK | OK | 
* installing *source* package 'GGtools' ...
  Using auto-selected zip option '--use-zip-data'
** R
** data
** inst
** preparing package for lazy loading
Welcome to Bioconductor
  Vignettes contain introductory material. To view, type
  'openVignette()'. To cite Bioconductor, see
  'citation("Biobase")' and for packages 'citation(pkgname)'.
Loading required package: GSEABase
Loading required package: annotate
Loading required package: AnnotationDbi
Loading required package: graph
Loading required package: snpMatrix
Loading required package: survival
Loading required package: splines
Loading required package: RSQLite
Loading required package: DBI
Loading required package: IRanges
Attaching package: 'IRanges'
	The following object(s) are masked from package:Biobase :
	 updateObject 
	The following object(s) are masked from package:base :
	 Map,
	 cbind,
	 mapply,
	 order,
	 pmax,
	 pmax.int,
	 pmin,
	 pmin.int,
	 rbind,
	 rep.int,
	 table 
Attaching package: 'Biostrings'
	The following object(s) are masked from package:graph :
	 complement 
** help
*** installing help indices
** building package indices ...
** MD5 sums
packaged installation of 'GGtools' as GGtools_3.5.19.zip
* DONE (GGtools)