| Back to the "Multiple platform build/check report" | A B C D E F [G] H I J K L M N O P Q R S T U V W X Y Z |
| Package 147/354 | Hostname | OS / Arch | BUILD | CHECK | BUILD BIN | |||||
| GEOquery 2.11.1 Sean Davis
| wilson1 | Linux (openSUSE 11.1) / x86_64 | OK | OK | ||||||
| liverpool | Windows Server 2003 R2 (32-bit) / x64 | OK | OK | OK | ||||||
| pitt | Mac OS X Tiger (10.4.11) / i386 | [ OK ] | OK | OK | ||||||
| pelham | Mac OS X Leopard (10.5.8) / i386 | OK | OK | OK |
| Package: GEOquery |
| Version: 2.11.1 |
| Command: /Library/Frameworks/R.framework/Versions/2.11/Resources/bin/R CMD build GEOquery |
| StartedAt: 2009-12-07 14:13:56 -0800 (Mon, 07 Dec 2009) |
| EndedAt: 2009-12-07 14:14:02 -0800 (Mon, 07 Dec 2009) |
| EllapsedTime: 5.8 seconds |
| RetCode: 0 |
| Status: OK |
| PackageFile: GEOquery_2.11.1.tar.gz |
| PackageFileSize: 12.94 MiB |
* checking for file 'GEOquery/DESCRIPTION' ... OK * preparing 'GEOquery': * checking DESCRIPTION meta-information ... OK * removing junk files * checking for LF line-endings in source and make files * checking for empty or unneeded directories * building 'GEOquery_2.11.1.tar.gz'