DEGseq 1.1.2 Likun Wang
 | Bioconductor Changelog |  | Snapshot Date: 2009-12-07 11:32:00 -0800 (Mon, 07 Dec 2009) |  | URL: https://hedgehog.fhcrc.org/bioconductor/trunk/madman/Rpacks/DEGseq |  | Last Changed Rev: 43216 / Revision: 43434 |  | Last Changed Date: 2009-11-23 01:30:34 -0800 (Mon, 23 Nov 2009) |  
  | wilson1  | Linux (openSUSE 11.1) / x86_64  |  OK  |  OK  |  | 
| liverpool  | Windows Server 2003 R2 (32-bit) / x64  |  OK  |  OK  | [ OK ] | 
| pitt  | Mac OS X Tiger (10.4.11) / i386  |  OK  |  OK  |  OK  | 
| pelham  | Mac OS X Leopard (10.5.8) / i386  |  OK  |  OK  |  OK  | 
* installing *source* package 'DEGseq' ...
** libs
  making DLL ...
g++ -I"E:/biocbld/bbs-2.6-bioc/R/include"        -O2 -Wall  -c getGeneExp.cpp -o getGeneExp.o
g++ -shared -s -o DEGseq.dll tmp.def getGeneExp.o -LE:/biocbld/bbs-2.6-bioc/R/bin -lR
  ... done
** R
** inst
** preparing package for lazy loading
Loading required package: tcltk
Loading Tcl/Tk interface ... done
Loading required package: IRanges
Attaching package: 'IRanges'
	The following object(s) are masked from package:base :
	 Map,
	 cbind,
	 mapply,
	 order,
	 pmax,
	 pmax.int,
	 pmin,
	 pmin.int,
	 rbind,
	 rep.int,
	 table 
Loading required package: Biostrings
Loading required package: BSgenome
Loading required package: lattice
Loading required package: RCurl
Loading required package: bitops
Loading required package: impute
** help
*** installing help indices
** building package indices ...
** MD5 sums
packaged installation of 'DEGseq' as DEGseq_1.1.2.zip
* DONE (DEGseq)