| Biobase 2.7.2 Biocore Team c/o BioC user list
 
 | Bioconductor Changelog |  | Snapshot Date: 2009-12-07 11:32:00 -0800 (Mon, 07 Dec 2009) |  | URL: https://hedgehog.fhcrc.org/bioconductor/trunk/madman/Rpacks/Biobase |  | Last Changed Rev: 43409 / Revision: 43434 |  | Last Changed Date: 2009-12-05 06:47:25 -0800 (Sat, 05 Dec 2009) | 
 | wilson1 | Linux (openSUSE 11.1) / x86_64 | OK | OK |  | 
| liverpool | Windows Server 2003 R2 (32-bit) / x64 | OK | OK | [ OK ] | 
| pitt | Mac OS X Tiger (10.4.11) / i386 | OK | OK | OK | 
| pelham | Mac OS X Leopard (10.5.8) / i386 | OK | OK | OK | 
* installing *source* package 'Biobase' ...
  Using auto-selected zip option '--use-zip-data'
** libs
  making DLL ...
gcc -I"E:/biocbld/bbs-2.6-bioc/R/include"        -O3 -Wall  -std=gnu99 -c Rinit.c -o Rinit.o
gcc -I"E:/biocbld/bbs-2.6-bioc/R/include"        -O3 -Wall  -std=gnu99 -c anyMissing.c -o anyMissing.o
gcc -I"E:/biocbld/bbs-2.6-bioc/R/include"        -O3 -Wall  -std=gnu99 -c envir.c -o envir.o
gcc -I"E:/biocbld/bbs-2.6-bioc/R/include"        -O3 -Wall  -std=gnu99 -c matchpt.c -o matchpt.o
gcc -I"E:/biocbld/bbs-2.6-bioc/R/include"        -O3 -Wall  -std=gnu99 -c rowMedians.c -o rowMedians.o
gcc -I"E:/biocbld/bbs-2.6-bioc/R/include"        -O3 -Wall  -std=gnu99 -c sublist_extract.c -o sublist_extract.o
gcc -shared -s -o Biobase.dll tmp.def Rinit.o anyMissing.o envir.o matchpt.o rowMedians.o sublist_extract.o -LE:/biocbld/bbs-2.6-bioc/R/bin -lR
  ... done
** R
** data
** inst
** preparing package for lazy loading
** help
*** installing help indices
** building package indices ...
** MD5 sums
packaged installation of 'Biobase' as Biobase_2.7.2.zip
* DONE (Biobase)